{"text_format":"1","workbook":"xlsx","n_sheets":2,"sheets":["Sheet1","Sheet2"],"not_rendered":{"charts":0,"images":0,"macros":1,"external_links":0,"defined_names":0,"comments":0,"pivot_tables":0},"unopened":[],"bounds":{"document_bytes":16777216,"sheet_cells":100000,"rows_first":2000,"rows_last":500,"rows_between":2000,"halvings":0,"cell_chars":16384,"cell_head_chars":4096},"cells_cut":0,"cells_raw":0,"read":"whole","date_system":"1900"}

{"sheet":"Sheet1","index":0,"n_rows":71,"n_cols":3,"rows_kept":71,"cut":false,"hidden":false,"merged":[]}
["www.ExcelMadeEasy.com"]
["Part 1"]
["enter data",100]
[]
[]
["here are the calculation done"]
["Who","Margin","just a result"]
["Bla bla 1",{"$f":"RAND()","v":0.64640771209095704},{"$f":"B8*$B$3","v":64.640771209095703}]
["Bla bla 2",{"$f":"RAND()","v":0.9992869082588498},{"$f":"B9*$B$3","v":99.928690825884985}]
["Bla bla 3",0.93643166949247125,93.643166949247131]
["Bla bla 4",0.52315369396583533,52.315369396583534]
["Bla bla 5",0.60123379835584989,60.123379835584991]
["Bla bla 6",0.55584128076003059,55.584128076003061]
["Bla bla 7",0.1377960759416349,13.77960759416349]
["Bla bla 8",0.64200969158259136,64.200969158259142]
["Bla bla 9",0.92928145482719493,92.928145482719486]
["Bla bla 10",0.37823026744460131,37.82302674446013]
["Bla bla 11",0.76511265567018505,76.511265567018512]
[]
[]
[]
[]
[]
[]
[]
[]
[]
[]
[]
[]
[]
[]
[]
[]
[]
[]
[]
[]
[]
[]
["Part 2"]
["enter data",5]
[]
[]
["here are the calculation done"]
["Who","Profit","Header 2"]
["Bla bla 1",{"$f":"B8*$B$42-$B$42/2","v":0.73203856045478499},{"$f":"IF(B47>0,\"profit\",\"loss\")","v":"profit"}]
["Bla bla 2",{"$f":"B9*$B$42-$B$42/2","v":2.4964345412942492},{"$f":"IF(B48>0,\"profit\",\"loss\")","v":"profit"}]
["Bla bla 3",2.182158347462356,"profit"]
["Bla bla 4",0.11576846982917655,"profit"]
["Bla bla 5",0.50616899177924957,"profit"]
["Bla bla 6",0.27920640380015271,"profit"]
["Bla bla 7",-1.8110196202918254,"loss"]
["Bla bla 8",0.7100484579129569,"profit"]
["Bla bla 9",2.1464072741359743,"profit"]
["Bla bla 10",-0.60884866277699334,"loss"]
["Bla bla 11",1.3255632783509252,"profit"]
[]
[]
[]
[]
[]
[]
[]
[]
[]
["Part 3"]
["enter data",5]
[]
[]
["here you can put more data …."]

{"sheet":"Sheet2","index":1,"n_rows":21,"n_cols":10,"rows_kept":21,"cut":false,"hidden":false,"merged":[]}
[null,{"$f":"VLOOKUP(Sheet1!A2, Sheet1!$F$48:$G$52, 2, FALSE)","v":{"$error":"#N/A"}},{"$f":"VLOOKUP(Sheet1!B2, Sheet1!$F$48:$G$52, 2, FALSE)","v":{"$error":"#N/A"}},{"$f":"VLOOKUP(Sheet1!C2, Sheet1!$F$48:$G$52, 2, FALSE)","v":{"$error":"#N/A"}},{"$f":"VLOOKUP(Sheet1!D2, Sheet1!$F$48:$G$52, 2, FALSE)","v":{"$error":"#N/A"}},{"$f":"VLOOKUP(Sheet1!E2, Sheet1!$F$48:$G$52, 2, FALSE)","v":{"$error":"#N/A"}},{"$f":"VLOOKUP(Sheet1!F2, Sheet1!$F$48:$G$52, 2, FALSE)","v":{"$error":"#N/A"}},{"$f":"VLOOKUP(Sheet1!G2, Sheet1!$F$48:$G$52, 2, FALSE)","v":{"$error":"#N/A"}},{"$f":"VLOOKUP(Sheet1!H2, Sheet1!$F$48:$G$52, 2, FALSE)","v":{"$error":"#N/A"}},{"$f":"VLOOKUP(Sheet1!I2, Sheet1!$F$48:$G$52, 2, FALSE)","v":{"$error":"#N/A"}}]
[null,{"$f":"VLOOKUP(Sheet1!B3, Sheet1!$F$48:$G$52, 2, FALSE)","v":{"$error":"#N/A"}},{"$f":"VLOOKUP(Sheet1!#REF!, Sheet1!$F$48:$G$52, 2, FALSE)","v":{"$error":"#REF!"}},{"$f":"VLOOKUP(Sheet1!C3, Sheet1!$F$48:$G$52, 2, FALSE)","v":{"$error":"#N/A"}},{"$f":"VLOOKUP(Sheet1!D3, Sheet1!$F$48:$G$52, 2, FALSE)","v":{"$error":"#N/A"}},{"$f":"VLOOKUP(Sheet1!E3, Sheet1!$F$48:$G$52, 2, FALSE)","v":{"$error":"#N/A"}},{"$f":"VLOOKUP(Sheet1!F3, Sheet1!$F$48:$G$52, 2, FALSE)","v":{"$error":"#N/A"}},{"$f":"VLOOKUP(Sheet1!G3, Sheet1!$F$48:$G$52, 2, FALSE)","v":{"$error":"#N/A"}},{"$f":"VLOOKUP(Sheet1!H3, Sheet1!$F$48:$G$52, 2, FALSE)","v":{"$error":"#N/A"}},{"$f":"VLOOKUP(Sheet1!I3, Sheet1!$F$48:$G$52, 2, FALSE)","v":{"$error":"#N/A"}}]
[null,{"$f":"VLOOKUP(Sheet1!A4, Sheet1!$F$48:$G$52, 2, FALSE)","v":{"$error":"#N/A"}},{"$f":"VLOOKUP(Sheet1!B4, Sheet1!$F$48:$G$52, 2, FALSE)","v":{"$error":"#N/A"}},{"$f":"VLOOKUP(Sheet1!C4, Sheet1!$F$48:$G$52, 2, FALSE)","v":{"$error":"#N/A"}},{"$f":"VLOOKUP(Sheet1!D4, Sheet1!$F$48:$G$52, 2, FALSE)","v":{"$error":"#N/A"}},{"$f":"VLOOKUP(Sheet1!E4, Sheet1!$F$48:$G$52, 2, FALSE)","v":{"$error":"#N/A"}},{"$f":"VLOOKUP(Sheet1!F4, Sheet1!$F$48:$G$52, 2, FALSE)","v":{"$error":"#N/A"}},{"$f":"VLOOKUP(Sheet1!G4, Sheet1!$F$48:$G$52, 2, FALSE)","v":{"$error":"#N/A"}},{"$f":"VLOOKUP(Sheet1!H4, Sheet1!$F$48:$G$52, 2, FALSE)","v":{"$error":"#N/A"}},{"$f":"VLOOKUP(Sheet1!I4, Sheet1!$F$48:$G$52, 2, FALSE)","v":{"$error":"#N/A"}}]
[null,{"$f":"VLOOKUP(Sheet1!A5, Sheet1!$F$48:$G$52, 2, FALSE)","v":{"$error":"#N/A"}},{"$f":"VLOOKUP(Sheet1!B5, Sheet1!$F$48:$G$52, 2, FALSE)","v":{"$error":"#N/A"}},{"$f":"VLOOKUP(Sheet1!C5, Sheet1!$F$48:$G$52, 2, FALSE)","v":{"$error":"#N/A"}},{"$f":"VLOOKUP(Sheet1!D5, Sheet1!$F$48:$G$52, 2, FALSE)","v":{"$error":"#N/A"}},{"$f":"VLOOKUP(Sheet1!E5, Sheet1!$F$48:$G$52, 2, FALSE)","v":{"$error":"#N/A"}},{"$f":"VLOOKUP(Sheet1!F5, Sheet1!$F$48:$G$52, 2, FALSE)","v":{"$error":"#N/A"}},{"$f":"VLOOKUP(Sheet1!G5, Sheet1!$F$48:$G$52, 2, FALSE)","v":{"$error":"#N/A"}},{"$f":"VLOOKUP(Sheet1!H5, Sheet1!$F$48:$G$52, 2, FALSE)","v":{"$error":"#N/A"}},{"$f":"VLOOKUP(Sheet1!I5, Sheet1!$F$48:$G$52, 2, FALSE)","v":{"$error":"#N/A"}}]
[null,{"$f":"VLOOKUP(Sheet1!A6, Sheet1!$F$48:$G$52, 2, FALSE)","v":{"$error":"#N/A"}},{"$f":"VLOOKUP(Sheet1!B6, Sheet1!$F$48:$G$52, 2, FALSE)","v":{"$error":"#N/A"}},{"$f":"VLOOKUP(Sheet1!C6, Sheet1!$F$48:$G$52, 2, FALSE)","v":{"$error":"#N/A"}},{"$f":"VLOOKUP(Sheet1!D6, Sheet1!$F$48:$G$52, 2, FALSE)","v":{"$error":"#N/A"}},{"$f":"VLOOKUP(Sheet1!E6, Sheet1!$F$48:$G$52, 2, FALSE)","v":{"$error":"#N/A"}},{"$f":"VLOOKUP(Sheet1!F6, Sheet1!$F$48:$G$52, 2, FALSE)","v":{"$error":"#N/A"}},{"$f":"VLOOKUP(Sheet1!G6, Sheet1!$F$48:$G$52, 2, FALSE)","v":{"$error":"#N/A"}},{"$f":"VLOOKUP(Sheet1!H6, Sheet1!$F$48:$G$52, 2, FALSE)","v":{"$error":"#N/A"}},{"$f":"VLOOKUP(Sheet1!I6, Sheet1!$F$48:$G$52, 2, FALSE)","v":{"$error":"#N/A"}}]
[null,{"$f":"VLOOKUP(Sheet1!A7, Sheet1!$F$48:$G$52, 2, FALSE)","v":{"$error":"#N/A"}},{"$f":"VLOOKUP(Sheet1!B7, Sheet1!$F$48:$G$52, 2, FALSE)","v":{"$error":"#N/A"}},{"$f":"VLOOKUP(Sheet1!C7, Sheet1!$F$48:$G$52, 2, FALSE)","v":{"$error":"#N/A"}},{"$f":"VLOOKUP(Sheet1!D7, Sheet1!$F$48:$G$52, 2, FALSE)","v":{"$error":"#N/A"}},{"$f":"VLOOKUP(Sheet1!E7, Sheet1!$F$48:$G$52, 2, FALSE)","v":{"$error":"#N/A"}},{"$f":"VLOOKUP(Sheet1!F7, Sheet1!$F$48:$G$52, 2, FALSE)","v":{"$error":"#N/A"}},{"$f":"VLOOKUP(Sheet1!G7, Sheet1!$F$48:$G$52, 2, FALSE)","v":{"$error":"#N/A"}},{"$f":"VLOOKUP(Sheet1!H7, Sheet1!$F$48:$G$52, 2, FALSE)","v":{"$error":"#N/A"}},{"$f":"VLOOKUP(Sheet1!I7, Sheet1!$F$48:$G$52, 2, FALSE)","v":{"$error":"#N/A"}}]
[null,{"$f":"VLOOKUP(Sheet1!A8, Sheet1!$F$48:$G$52, 2, FALSE)","v":{"$error":"#N/A"}},{"$f":"VLOOKUP(Sheet1!B8, Sheet1!$F$48:$G$52, 2, FALSE)","v":{"$error":"#N/A"}},{"$f":"VLOOKUP(Sheet1!C8, Sheet1!$F$48:$G$52, 2, FALSE)","v":{"$error":"#N/A"}},{"$f":"VLOOKUP(Sheet1!D8, Sheet1!$F$48:$G$52, 2, FALSE)","v":{"$error":"#N/A"}},{"$f":"VLOOKUP(Sheet1!E8, Sheet1!$F$48:$G$52, 2, FALSE)","v":{"$error":"#N/A"}},{"$f":"VLOOKUP(Sheet1!F8, Sheet1!$F$48:$G$52, 2, FALSE)","v":{"$error":"#N/A"}},{"$f":"VLOOKUP(Sheet1!G8, Sheet1!$F$48:$G$52, 2, FALSE)","v":{"$error":"#N/A"}},{"$f":"VLOOKUP(Sheet1!H8, Sheet1!$F$48:$G$52, 2, FALSE)","v":{"$error":"#N/A"}},{"$f":"VLOOKUP(Sheet1!I8, Sheet1!$F$48:$G$52, 2, FALSE)","v":{"$error":"#N/A"}}]
[null,{"$f":"VLOOKUP(Sheet1!B9, Sheet1!$F$48:$G$52, 2, FALSE)","v":{"$error":"#N/A"}},{"$f":"VLOOKUP(Sheet1!#REF!, Sheet1!$F$48:$G$52, 2, FALSE)","v":{"$error":"#REF!"}},{"$f":"VLOOKUP(Sheet1!C9, Sheet1!$F$48:$G$52, 2, FALSE)","v":{"$error":"#N/A"}},{"$f":"VLOOKUP(Sheet1!D9, Sheet1!$F$48:$G$52, 2, FALSE)","v":{"$error":"#N/A"}},{"$f":"VLOOKUP(Sheet1!E9, Sheet1!$F$48:$G$52, 2, FALSE)","v":{"$error":"#N/A"}},{"$f":"VLOOKUP(Sheet1!F9, Sheet1!$F$48:$G$52, 2, FALSE)","v":{"$error":"#N/A"}},{"$f":"VLOOKUP(Sheet1!G9, Sheet1!$F$48:$G$52, 2, FALSE)","v":{"$error":"#N/A"}},{"$f":"VLOOKUP(Sheet1!H9, Sheet1!$F$48:$G$52, 2, FALSE)","v":{"$error":"#N/A"}},{"$f":"VLOOKUP(Sheet1!I9, Sheet1!$F$48:$G$52, 2, FALSE)","v":{"$error":"#N/A"}}]
[null,{"$f":"VLOOKUP(Sheet1!A10, Sheet1!$F$48:$G$52, 2, FALSE)","v":{"$error":"#N/A"}},{"$f":"VLOOKUP(Sheet1!B10, Sheet1!$F$48:$G$52, 2, FALSE)","v":{"$error":"#N/A"}},{"$f":"VLOOKUP(Sheet1!C10, Sheet1!$F$48:$G$52, 2, FALSE)","v":{"$error":"#N/A"}},{"$f":"VLOOKUP(Sheet1!D10, Sheet1!$F$48:$G$52, 2, FALSE)","v":{"$error":"#N/A"}},{"$f":"VLOOKUP(Sheet1!E10, Sheet1!$F$48:$G$52, 2, FALSE)","v":{"$error":"#N/A"}},{"$f":"VLOOKUP(Sheet1!F10, Sheet1!$F$48:$G$52, 2, FALSE)","v":{"$error":"#N/A"}},{"$f":"VLOOKUP(Sheet1!G10, Sheet1!$F$48:$G$52, 2, FALSE)","v":{"$error":"#N/A"}},{"$f":"VLOOKUP(Sheet1!H10, Sheet1!$F$48:$G$52, 2, FALSE)","v":{"$error":"#N/A"}},{"$f":"VLOOKUP(Sheet1!I10, Sheet1!$F$48:$G$52, 2, FALSE)","v":{"$error":"#N/A"}}]
[null,{"$f":"VLOOKUP(Sheet1!A11, Sheet1!$F$48:$G$52, 2, FALSE)","v":{"$error":"#N/A"}},{"$f":"VLOOKUP(Sheet1!B11, Sheet1!$F$48:$G$52, 2, FALSE)","v":{"$error":"#N/A"}},{"$f":"VLOOKUP(Sheet1!C11, Sheet1!$F$48:$G$52, 2, FALSE)","v":{"$error":"#N/A"}},{"$f":"VLOOKUP(Sheet1!D11, Sheet1!$F$48:$G$52, 2, FALSE)","v":{"$error":"#N/A"}},{"$f":"VLOOKUP(Sheet1!E11, Sheet1!$F$48:$G$52, 2, FALSE)","v":{"$error":"#N/A"}},{"$f":"VLOOKUP(Sheet1!F11, Sheet1!$F$48:$G$52, 2, FALSE)","v":{"$error":"#N/A"}},{"$f":"VLOOKUP(Sheet1!G11, Sheet1!$F$48:$G$52, 2, FALSE)","v":{"$error":"#N/A"}},{"$f":"VLOOKUP(Sheet1!H11, Sheet1!$F$48:$G$52, 2, FALSE)","v":{"$error":"#N/A"}},{"$f":"VLOOKUP(Sheet1!I11, Sheet1!$F$48:$G$52, 2, FALSE)","v":{"$error":"#N/A"}}]
[null,{"$f":"VLOOKUP(Sheet1!A12, Sheet1!$F$48:$G$52, 2, FALSE)","v":{"$error":"#N/A"}},{"$f":"VLOOKUP(Sheet1!B12, Sheet1!$F$48:$G$52, 2, FALSE)","v":{"$error":"#N/A"}},{"$f":"VLOOKUP(Sheet1!C12, Sheet1!$F$48:$G$52, 2, FALSE)","v":{"$error":"#N/A"}},{"$f":"VLOOKUP(Sheet1!D12, Sheet1!$F$48:$G$52, 2, FALSE)","v":{"$error":"#N/A"}},{"$f":"VLOOKUP(Sheet1!E12, Sheet1!$F$48:$G$52, 2, FALSE)","v":{"$error":"#N/A"}},{"$f":"VLOOKUP(Sheet1!F12, Sheet1!$F$48:$G$52, 2, FALSE)","v":{"$error":"#N/A"}},{"$f":"VLOOKUP(Sheet1!G12, Sheet1!$F$48:$G$52, 2, FALSE)","v":{"$error":"#N/A"}},{"$f":"VLOOKUP(Sheet1!H12, Sheet1!$F$48:$G$52, 2, FALSE)","v":{"$error":"#N/A"}},{"$f":"VLOOKUP(Sheet1!I12, Sheet1!$F$48:$G$52, 2, FALSE)","v":{"$error":"#N/A"}}]
[null,{"$f":"VLOOKUP(Sheet1!A13, Sheet1!$F$48:$G$52, 2, FALSE)","v":{"$error":"#N/A"}},{"$f":"VLOOKUP(Sheet1!B13, Sheet1!$F$48:$G$52, 2, FALSE)","v":{"$error":"#N/A"}},{"$f":"VLOOKUP(Sheet1!C13, Sheet1!$F$48:$G$52, 2, FALSE)","v":{"$error":"#N/A"}},{"$f":"VLOOKUP(Sheet1!D13, Sheet1!$F$48:$G$52, 2, FALSE)","v":{"$error":"#N/A"}},{"$f":"VLOOKUP(Sheet1!E13, Sheet1!$F$48:$G$52, 2, FALSE)","v":{"$error":"#N/A"}},{"$f":"VLOOKUP(Sheet1!F13, Sheet1!$F$48:$G$52, 2, FALSE)","v":{"$error":"#N/A"}},{"$f":"VLOOKUP(Sheet1!G13, Sheet1!$F$48:$G$52, 2, FALSE)","v":{"$error":"#N/A"}},{"$f":"VLOOKUP(Sheet1!H13, Sheet1!$F$48:$G$52, 2, FALSE)","v":{"$error":"#N/A"}},{"$f":"VLOOKUP(Sheet1!I13, Sheet1!$F$48:$G$52, 2, FALSE)","v":{"$error":"#N/A"}}]
[null,{"$f":"VLOOKUP(Sheet1!A14, Sheet1!$F$48:$G$52, 2, FALSE)","v":{"$error":"#N/A"}},{"$f":"VLOOKUP(Sheet1!B14, Sheet1!$F$48:$G$52, 2, FALSE)","v":{"$error":"#N/A"}},{"$f":"VLOOKUP(Sheet1!C14, Sheet1!$F$48:$G$52, 2, FALSE)","v":{"$error":"#N/A"}},{"$f":"VLOOKUP(Sheet1!D14, Sheet1!$F$48:$G$52, 2, FALSE)","v":{"$error":"#N/A"}},{"$f":"VLOOKUP(Sheet1!E14, Sheet1!$F$48:$G$52, 2, FALSE)","v":{"$error":"#N/A"}},{"$f":"VLOOKUP(Sheet1!F14, Sheet1!$F$48:$G$52, 2, FALSE)","v":{"$error":"#N/A"}},{"$f":"VLOOKUP(Sheet1!G14, Sheet1!$F$48:$G$52, 2, FALSE)","v":{"$error":"#N/A"}},{"$f":"VLOOKUP(Sheet1!H14, Sheet1!$F$48:$G$52, 2, FALSE)","v":{"$error":"#N/A"}},{"$f":"VLOOKUP(Sheet1!I14, Sheet1!$F$48:$G$52, 2, FALSE)","v":{"$error":"#N/A"}}]
[null,{"$f":"VLOOKUP(Sheet1!A15, Sheet1!$F$48:$G$52, 2, FALSE)","v":{"$error":"#N/A"}},{"$f":"VLOOKUP(Sheet1!B15, Sheet1!$F$48:$G$52, 2, FALSE)","v":{"$error":"#N/A"}},{"$f":"VLOOKUP(Sheet1!C15, Sheet1!$F$48:$G$52, 2, FALSE)","v":{"$error":"#N/A"}},{"$f":"VLOOKUP(Sheet1!D15, Sheet1!$F$48:$G$52, 2, FALSE)","v":{"$error":"#N/A"}},{"$f":"VLOOKUP(Sheet1!E15, Sheet1!$F$48:$G$52, 2, FALSE)","v":{"$error":"#N/A"}},{"$f":"VLOOKUP(Sheet1!F15, Sheet1!$F$48:$G$52, 2, FALSE)","v":{"$error":"#N/A"}},{"$f":"VLOOKUP(Sheet1!G15, Sheet1!$F$48:$G$52, 2, FALSE)","v":{"$error":"#N/A"}},{"$f":"VLOOKUP(Sheet1!H15, Sheet1!$F$48:$G$52, 2, FALSE)","v":{"$error":"#N/A"}},{"$f":"VLOOKUP(Sheet1!I15, Sheet1!$F$48:$G$52, 2, FALSE)","v":{"$error":"#N/A"}}]
[null,{"$f":"VLOOKUP(Sheet1!A16, Sheet1!$F$48:$G$52, 2, FALSE)","v":{"$error":"#N/A"}},{"$f":"VLOOKUP(Sheet1!B16, Sheet1!$F$48:$G$52, 2, FALSE)","v":{"$error":"#N/A"}},{"$f":"VLOOKUP(Sheet1!C16, Sheet1!$F$48:$G$52, 2, FALSE)","v":{"$error":"#N/A"}},{"$f":"VLOOKUP(Sheet1!D16, Sheet1!$F$48:$G$52, 2, FALSE)","v":{"$error":"#N/A"}},{"$f":"VLOOKUP(Sheet1!E16, Sheet1!$F$48:$G$52, 2, FALSE)","v":{"$error":"#N/A"}},{"$f":"VLOOKUP(Sheet1!F16, Sheet1!$F$48:$G$52, 2, FALSE)","v":{"$error":"#N/A"}},{"$f":"VLOOKUP(Sheet1!G16, Sheet1!$F$48:$G$52, 2, FALSE)","v":{"$error":"#N/A"}},{"$f":"VLOOKUP(Sheet1!H16, Sheet1!$F$48:$G$52, 2, FALSE)","v":{"$error":"#N/A"}},{"$f":"VLOOKUP(Sheet1!I16, Sheet1!$F$48:$G$52, 2, FALSE)","v":{"$error":"#N/A"}}]
[null,{"$f":"VLOOKUP(Sheet1!A17, Sheet1!$F$48:$G$52, 2, FALSE)","v":{"$error":"#N/A"}},{"$f":"VLOOKUP(Sheet1!B17, Sheet1!$F$48:$G$52, 2, FALSE)","v":{"$error":"#N/A"}},{"$f":"VLOOKUP(Sheet1!C17, Sheet1!$F$48:$G$52, 2, FALSE)","v":{"$error":"#N/A"}},{"$f":"VLOOKUP(Sheet1!D17, Sheet1!$F$48:$G$52, 2, FALSE)","v":{"$error":"#N/A"}},{"$f":"VLOOKUP(Sheet1!E17, Sheet1!$F$48:$G$52, 2, FALSE)","v":{"$error":"#N/A"}},{"$f":"VLOOKUP(Sheet1!F17, Sheet1!$F$48:$G$52, 2, FALSE)","v":{"$error":"#N/A"}},{"$f":"VLOOKUP(Sheet1!G17, Sheet1!$F$48:$G$52, 2, FALSE)","v":{"$error":"#N/A"}},{"$f":"VLOOKUP(Sheet1!H17, Sheet1!$F$48:$G$52, 2, FALSE)","v":{"$error":"#N/A"}},{"$f":"VLOOKUP(Sheet1!I17, Sheet1!$F$48:$G$52, 2, FALSE)","v":{"$error":"#N/A"}}]
[null,{"$f":"VLOOKUP(Sheet1!A18, Sheet1!$F$48:$G$52, 2, FALSE)","v":{"$error":"#N/A"}},{"$f":"VLOOKUP(Sheet1!B18, Sheet1!$F$48:$G$52, 2, FALSE)","v":{"$error":"#N/A"}},{"$f":"VLOOKUP(Sheet1!C18, Sheet1!$F$48:$G$52, 2, FALSE)","v":{"$error":"#N/A"}},{"$f":"VLOOKUP(Sheet1!D18, Sheet1!$F$48:$G$52, 2, FALSE)","v":{"$error":"#N/A"}},{"$f":"VLOOKUP(Sheet1!E18, Sheet1!$F$48:$G$52, 2, FALSE)","v":{"$error":"#N/A"}},{"$f":"VLOOKUP(Sheet1!F18, Sheet1!$F$48:$G$52, 2, FALSE)","v":{"$error":"#N/A"}},{"$f":"VLOOKUP(Sheet1!G18, Sheet1!$F$48:$G$52, 2, FALSE)","v":{"$error":"#N/A"}},{"$f":"VLOOKUP(Sheet1!H18, Sheet1!$F$48:$G$52, 2, FALSE)","v":{"$error":"#N/A"}},{"$f":"VLOOKUP(Sheet1!I18, Sheet1!$F$48:$G$52, 2, FALSE)","v":{"$error":"#N/A"}}]
[null,{"$f":"VLOOKUP(Sheet1!A19, Sheet1!$F$48:$G$52, 2, FALSE)","v":{"$error":"#N/A"}},{"$f":"VLOOKUP(Sheet1!B19, Sheet1!$F$48:$G$52, 2, FALSE)","v":{"$error":"#N/A"}},{"$f":"VLOOKUP(Sheet1!C19, Sheet1!$F$48:$G$52, 2, FALSE)","v":{"$error":"#N/A"}},{"$f":"VLOOKUP(Sheet1!D19, Sheet1!$F$48:$G$52, 2, FALSE)","v":{"$error":"#N/A"}},{"$f":"VLOOKUP(Sheet1!E19, Sheet1!$F$48:$G$52, 2, FALSE)","v":{"$error":"#N/A"}},{"$f":"VLOOKUP(Sheet1!F19, Sheet1!$F$48:$G$52, 2, FALSE)","v":{"$error":"#N/A"}},{"$f":"VLOOKUP(Sheet1!G19, Sheet1!$F$48:$G$52, 2, FALSE)","v":{"$error":"#N/A"}},{"$f":"VLOOKUP(Sheet1!H19, Sheet1!$F$48:$G$52, 2, FALSE)","v":{"$error":"#N/A"}},{"$f":"VLOOKUP(Sheet1!I19, Sheet1!$F$48:$G$52, 2, FALSE)","v":{"$error":"#N/A"}}]
[null,{"$f":"VLOOKUP(Sheet1!A20, Sheet1!$F$48:$G$52, 2, FALSE)","v":{"$error":"#N/A"}},{"$f":"VLOOKUP(Sheet1!B20, Sheet1!$F$48:$G$52, 2, FALSE)","v":{"$error":"#N/A"}},{"$f":"VLOOKUP(Sheet1!C20, Sheet1!$F$48:$G$52, 2, FALSE)","v":{"$error":"#N/A"}},{"$f":"VLOOKUP(Sheet1!D20, Sheet1!$F$48:$G$52, 2, FALSE)","v":{"$error":"#N/A"}},{"$f":"VLOOKUP(Sheet1!E20, Sheet1!$F$48:$G$52, 2, FALSE)","v":{"$error":"#N/A"}},{"$f":"VLOOKUP(Sheet1!F20, Sheet1!$F$48:$G$52, 2, FALSE)","v":{"$error":"#N/A"}},{"$f":"VLOOKUP(Sheet1!G20, Sheet1!$F$48:$G$52, 2, FALSE)","v":{"$error":"#N/A"}},{"$f":"VLOOKUP(Sheet1!H20, Sheet1!$F$48:$G$52, 2, FALSE)","v":{"$error":"#N/A"}},{"$f":"VLOOKUP(Sheet1!I20, Sheet1!$F$48:$G$52, 2, FALSE)","v":{"$error":"#N/A"}}]
[null,{"$f":"VLOOKUP(Sheet1!A21, Sheet1!$F$48:$G$52, 2, FALSE)","v":{"$error":"#N/A"}},{"$f":"VLOOKUP(Sheet1!B21, Sheet1!$F$48:$G$52, 2, FALSE)","v":{"$error":"#N/A"}},{"$f":"VLOOKUP(Sheet1!C21, Sheet1!$F$48:$G$52, 2, FALSE)","v":{"$error":"#N/A"}},{"$f":"VLOOKUP(Sheet1!D21, Sheet1!$F$48:$G$52, 2, FALSE)","v":{"$error":"#N/A"}},{"$f":"VLOOKUP(Sheet1!E21, Sheet1!$F$48:$G$52, 2, FALSE)","v":{"$error":"#N/A"}},{"$f":"VLOOKUP(Sheet1!F21, Sheet1!$F$48:$G$52, 2, FALSE)","v":{"$error":"#N/A"}},{"$f":"VLOOKUP(Sheet1!G21, Sheet1!$F$48:$G$52, 2, FALSE)","v":{"$error":"#N/A"}},{"$f":"VLOOKUP(Sheet1!H21, Sheet1!$F$48:$G$52, 2, FALSE)","v":{"$error":"#N/A"}},{"$f":"VLOOKUP(Sheet1!I21, Sheet1!$F$48:$G$52, 2, FALSE)","v":{"$error":"#N/A"}}]
[null,{"$f":"VLOOKUP(Sheet1!A22, Sheet1!$F$48:$G$52, 2, FALSE)","v":{"$error":"#N/A"}},{"$f":"VLOOKUP(Sheet1!B22, Sheet1!$F$48:$G$52, 2, FALSE)","v":{"$error":"#N/A"}},{"$f":"VLOOKUP(Sheet1!C22, Sheet1!$F$48:$G$52, 2, FALSE)","v":{"$error":"#N/A"}},{"$f":"VLOOKUP(Sheet1!D22, Sheet1!$F$48:$G$52, 2, FALSE)","v":{"$error":"#N/A"}},{"$f":"VLOOKUP(Sheet1!E22, Sheet1!$F$48:$G$52, 2, FALSE)","v":{"$error":"#N/A"}},{"$f":"VLOOKUP(Sheet1!F22, Sheet1!$F$48:$G$52, 2, FALSE)","v":{"$error":"#N/A"}},{"$f":"VLOOKUP(Sheet1!G22, Sheet1!$F$48:$G$52, 2, FALSE)","v":{"$error":"#N/A"}},{"$f":"VLOOKUP(Sheet1!H22, Sheet1!$F$48:$G$52, 2, FALSE)","v":{"$error":"#N/A"}},{"$f":"VLOOKUP(Sheet1!I22, Sheet1!$F$48:$G$52, 2, FALSE)","v":{"$error":"#N/A"}}]